BEGIN:VCALENDAR
VERSION:2.0
PRODID:-//MRIJA e.V. Lünen - ECPv6.15.20//NONSGML v1.0//EN
CALSCALE:GREGORIAN
METHOD:PUBLISH
X-WR-CALNAME:MRIJA e.V. Lünen
X-ORIGINAL-URL:https://www.mrija-verein.de
X-WR-CALDESC:Veranstaltungen für MRIJA e.V. Lünen
REFRESH-INTERVAL;VALUE=DURATION:PT1H
X-Robots-Tag:noindex
X-PUBLISHED-TTL:PT1H
BEGIN:VTIMEZONE
TZID:Europe/Berlin
BEGIN:DAYLIGHT
TZOFFSETFROM:+0100
TZOFFSETTO:+0200
TZNAME:CEST
DTSTART:20220327T010000
END:DAYLIGHT
BEGIN:STANDARD
TZOFFSETFROM:+0200
TZOFFSETTO:+0100
TZNAME:CET
DTSTART:20221030T010000
END:STANDARD
BEGIN:DAYLIGHT
TZOFFSETFROM:+0100
TZOFFSETTO:+0200
TZNAME:CEST
DTSTART:20230326T010000
END:DAYLIGHT
BEGIN:STANDARD
TZOFFSETFROM:+0200
TZOFFSETTO:+0100
TZNAME:CET
DTSTART:20231029T010000
END:STANDARD
BEGIN:DAYLIGHT
TZOFFSETFROM:+0100
TZOFFSETTO:+0200
TZNAME:CEST
DTSTART:20240331T010000
END:DAYLIGHT
BEGIN:STANDARD
TZOFFSETFROM:+0200
TZOFFSETTO:+0100
TZNAME:CET
DTSTART:20241027T010000
END:STANDARD
END:VTIMEZONE
BEGIN:VEVENT
DTSTART;TZID=Europe/Berlin:20231222T160000
DTEND;TZID=Europe/Berlin:20231222T210000
DTSTAMP:20260421T144715
CREATED:20231203T200619Z
LAST-MODIFIED:20231203T213731Z
UID:2797-1703260800-1703278800@www.mrija-verein.de
SUMMARY:Weihnachtsfeier MRIJA-Verein!
DESCRIPTION:Wir laden Euch herzlich zu unserem Weihnachtsbaum (Neujahrsbaum) ein!\nLustige Wettbewerbe\, Spiele\, Geschenke\, Preise für Kinder und Erwachsene warten auf Sie. Buffet für alle!\nGemeinsam schmücken wir den Weihnachtsbaum!\nAls Eintrittskarte zu unserem Weihnachtsfest gilt diese Einladungskarte zusammen mit einer mitgebrachten Weihnachtskugel bzw. einem Weihnachtsspielzeug))) \nWir freuen uns auf Sie!!! \nWeihnachtsmann und Schneemädchen\n(Ded Moroz und Snegurochka)
URL:https://www.mrija-verein.de/veranstaltungen/weihnachtsfeier-mrija-verein-am-22-12-2023/
ATTACH;FMTTYPE=image/jpeg:https://www.mrija-verein.de/wp-content/uploads/2023/12/WhatsApp-Bild-2023-11-21-um-11.01.00_fd43cbc8.jpg
END:VEVENT
END:VCALENDAR